BEGIN:VCALENDAR
VERSION:2.0
PRODID:-//CeFoRPAT - ECPv6.15.20//NONSGML v1.0//EN
CALSCALE:GREGORIAN
METHOD:PUBLISH
X-WR-CALNAME:CeFoRPAT
X-ORIGINAL-URL:https://ceforpat.com
X-WR-CALDESC:Events for CeFoRPAT
REFRESH-INTERVAL;VALUE=DURATION:PT1H
X-Robots-Tag:noindex
X-PUBLISHED-TTL:PT1H
BEGIN:VTIMEZONE
TZID:Africa/Douala
BEGIN:STANDARD
TZOFFSETFROM:+0100
TZOFFSETTO:+0100
TZNAME:WAT
DTSTART:20240101T000000
END:STANDARD
END:VTIMEZONE
BEGIN:VEVENT
DTSTART;TZID=Africa/Douala:20250825T080000
DTEND;TZID=Africa/Douala:20990825T233000
DTSTAMP:20260423T133117
CREATED:20250825T041550Z
LAST-MODIFIED:20250825T045542Z
UID:2010-1756108800-4091383800@ceforpat.com
SUMMARY:MindWell
DESCRIPTION:https://app–mind-well-7408d9b9.base44.app
URL:https://ceforpat.com/event/mindwell/
END:VEVENT
END:VCALENDAR